BEGIN:VCALENDAR
VERSION:2.0
PRODID:-//Poželi želju, Subotica - ECPv6.15.20//NONSGML v1.0//EN
CALSCALE:GREGORIAN
METHOD:PUBLISH
X-WR-CALNAME:Poželi želju, Subotica
X-ORIGINAL-URL:https://pozelizelju.org.rs
X-WR-CALDESC:Events for Poželi želju, Subotica
REFRESH-INTERVAL;VALUE=DURATION:PT1H
X-Robots-Tag:noindex
X-PUBLISHED-TTL:PT1H
BEGIN:VTIMEZONE
TZID:Europe/Belgrade
BEGIN:DAYLIGHT
TZOFFSETFROM:+0100
TZOFFSETTO:+0200
TZNAME:CEST
DTSTART:20250330T010000
END:DAYLIGHT
BEGIN:STANDARD
TZOFFSETFROM:+0200
TZOFFSETTO:+0100
TZNAME:CET
DTSTART:20251026T010000
END:STANDARD
BEGIN:DAYLIGHT
TZOFFSETFROM:+0100
TZOFFSETTO:+0200
TZNAME:CEST
DTSTART:20260329T010000
END:DAYLIGHT
BEGIN:STANDARD
TZOFFSETFROM:+0200
TZOFFSETTO:+0100
TZNAME:CET
DTSTART:20261025T010000
END:STANDARD
BEGIN:DAYLIGHT
TZOFFSETFROM:+0100
TZOFFSETTO:+0200
TZNAME:CEST
DTSTART:20270328T010000
END:DAYLIGHT
BEGIN:STANDARD
TZOFFSETFROM:+0200
TZOFFSETTO:+0100
TZNAME:CET
DTSTART:20271031T010000
END:STANDARD
END:VTIMEZONE
BEGIN:VEVENT
DTSTART;TZID=Europe/Belgrade:20260423T090000
DTEND;TZID=Europe/Belgrade:20260423T123000
DTSTAMP:20260422T141228
CREATED:20210216T043000Z
LAST-MODIFIED:20260330T041622Z
UID:10456-1776934800-1776947400@pozelizelju.org.rs
SUMMARY:Pešačenje četvrtkom
DESCRIPTION:Naziv aktivnosti\n\n\nPešačenje četvrtkom\n\n\n\n\nvodič\n\n\nTurzai Jožef tel. 064-126-3563\n\n\n\n\ndatum\n\n\n23. april 2026. godine\n\n\n\n\nvreme i mesto polaska\n\n\n9.00 h h MOL benzinska pumpa na Senćanskom putu (raskrsnica sa Bajnatskom ulicom)\nKo za dolazak koristi gradski prevoz treba da siđe na stajalištu kod Senćanskog groblja (kod cvećare Viola)\n\n\n\n\nnačin dolaska na polazno mesto\n\n\nIz pravca Aleksandrova:\ngradski autobus\, linija 1 a polazak u 08.45 h sa Pačirskog puta ili linija 2 polazak u 8.40 h sa Novog naselja\nIz pravca grada:\ngradski autobus\, linija 1a polazak u 8.25 h sa autobuske okretnice Kelebija opština ili linija 2 polazak u 8.25 h sa autobuske okretnice Srpski šor\nili\nsopstveni prevoz\n\n\n\n\nopis aktivnosti\n\n\nPešačenje stazom dugom 10-12 km po izboru vodiča u pravcu prva tri sektora Palićkog jezera\, farme okružnog zatvora…\n\n\n\n\nPovratak za grad\n\n\npo  završetku pešačenja\, autobusi prema gradu polaze na svakih 30 minuta\, linije 1a i 2.\n\n\n\n\nneophodna oprema\n\n\nOdeća i obuća prilagođena vremenskim uslovima i godišnjem dobu.\n\n\n\n\ntroškovi\n\n\nSamo za autobuske karte u gradskom prevozu\n\n\n\n\nPrijave\n\n\nPrijave nisu neophodne. Dovoljno je samo doći u navedeno vreme na mesto okupljanja i polaska na stazu.\n\n\n\n\nPravo učešća\n\n\nOsim za članove udruženja aktivnosti u prirodi u okolini grada omogućene su i za sve ostale zainteresovane građane kojima navedeni plan i program odgovaraju.\n\n\n\n\nNapomene:\n\n\nSvaki učesnik na organizovanoj aktivnosti u ptrirodi učestvuje na sopstvenu odgovornost!\nUsled nepredviđenih okolnosti vodič ima pravo da promeni plan i program u skladu sa novonastalom situacijom.
URL:https://pozelizelju.org.rs/event/pesacenje-cetvrtkom-turzai/
LOCATION:Subotica i okolina\, Srbija
CATEGORIES:Naredne aktivnosti,Pešačenje četvrtkom
ATTACH;FMTTYPE=image/jpeg:https://pozelizelju.org.rs/wp-content/uploads/2024/12/logo-cetvrtak-sajt.jpg
ORGANIZER;CN="Udru%C5%BEenje Po%C5%BEeli %C5%BEelju":MAILTO:office@pozelizelju.org.rs
END:VEVENT
END:VCALENDAR