BEGIN:VCALENDAR
VERSION:2.0
PRODID:-//Poželi želju, Subotica - ECPv6.15.20//NONSGML v1.0//EN
CALSCALE:GREGORIAN
METHOD:PUBLISH
X-ORIGINAL-URL:https://pozelizelju.org.rs
X-WR-CALDESC:Events for Poželi želju, Subotica
REFRESH-INTERVAL;VALUE=DURATION:PT1H
X-Robots-Tag:noindex
X-PUBLISHED-TTL:PT1H
BEGIN:VTIMEZONE
TZID:Europe/Belgrade
BEGIN:DAYLIGHT
TZOFFSETFROM:+0100
TZOFFSETTO:+0200
TZNAME:CEST
DTSTART:20250330T010000
END:DAYLIGHT
BEGIN:STANDARD
TZOFFSETFROM:+0200
TZOFFSETTO:+0100
TZNAME:CET
DTSTART:20251026T010000
END:STANDARD
BEGIN:DAYLIGHT
TZOFFSETFROM:+0100
TZOFFSETTO:+0200
TZNAME:CEST
DTSTART:20260329T010000
END:DAYLIGHT
BEGIN:STANDARD
TZOFFSETFROM:+0200
TZOFFSETTO:+0100
TZNAME:CET
DTSTART:20261025T010000
END:STANDARD
BEGIN:DAYLIGHT
TZOFFSETFROM:+0100
TZOFFSETTO:+0200
TZNAME:CEST
DTSTART:20270328T010000
END:DAYLIGHT
BEGIN:STANDARD
TZOFFSETFROM:+0200
TZOFFSETTO:+0100
TZNAME:CET
DTSTART:20271031T010000
END:STANDARD
END:VTIMEZONE
BEGIN:VEVENT
DTSTART;TZID=Europe/Belgrade:20260227T090000
DTEND;TZID=Europe/Belgrade:20260227T130000
DTSTAMP:20260422T174440
CREATED:20210628T153205Z
LAST-MODIFIED:20260225T142238Z
UID:13801-1772182800-1772197200@pozelizelju.org.rs
SUMMARY:Uređenje pešačkih staza u Subotičkoj peščari
DESCRIPTION:Naziv aktivnosti:\n\n\nUređenje pešačkih staza u Subotičkoj peščari\n\n\n\n\nDatum:\n\n\n27.02.2026. godine (petak)\n\n\n\n\nMesto i vreme okupljanja:\n\n\nautobuska okretnica Srpski šor u 09.10 h (po dolasku autobusa)\n\n\n\n\nOpis aktivnosti:\n\n\nnastavak radova na održavanju staze zdravlja Majdan\, farbanje markacija osnovnom bojom.\nStaza zdravlja duga je 6\,5 km i laganim hodom uz radove prelazi se za tri i po sata.\n\n\n\n\nPlanirani završetak aktivnosti:\n\n\nnajkasnije do 12.45 h\, autobus prema gradu polazi u 12.55 h.\n\n\n\n\nKontakt:\n\n\nZoran Vukmanov\, predsednik udruženja. Tel. 069-331-2228.\n\n\n\n\nPrijave:\n\n\nprijave nisu neophodne\, dovoljno je doći u zakazano vreme na mesto okupljanja ali je poželjno najaviti se porukom na gore navedeni broj telefona radi lakše organizacije posla.
URL:https://pozelizelju.org.rs/event/uredjenje-staza/
LOCATION:Staza zdravlja Majdan\, Srbija
CATEGORIES:Ekološke i radne akcije,Naredne aktivnosti
ATTACH;FMTTYPE=image/jpeg:https://pozelizelju.org.rs/wp-content/uploads/2021/06/IMG_20220113_101956-1.jpg
ORGANIZER;CN="Udru%C5%BEenje Po%C5%BEeli %C5%BEelju":MAILTO:office@pozelizelju.org.rs
END:VEVENT
END:VCALENDAR