BEGIN:VCALENDAR
VERSION:2.0
PRODID:-//Poželi želju, Subotica - ECPv6.15.20//NONSGML v1.0//EN
CALSCALE:GREGORIAN
METHOD:PUBLISH
X-WR-CALNAME:Poželi želju, Subotica
X-ORIGINAL-URL:https://pozelizelju.org.rs
X-WR-CALDESC:Events for Poželi želju, Subotica
REFRESH-INTERVAL;VALUE=DURATION:PT1H
X-Robots-Tag:noindex
X-PUBLISHED-TTL:PT1H
BEGIN:VTIMEZONE
TZID:Europe/Belgrade
BEGIN:DAYLIGHT
TZOFFSETFROM:+0100
TZOFFSETTO:+0200
TZNAME:CEST
DTSTART:20250330T010000
END:DAYLIGHT
BEGIN:STANDARD
TZOFFSETFROM:+0200
TZOFFSETTO:+0100
TZNAME:CET
DTSTART:20251026T010000
END:STANDARD
BEGIN:DAYLIGHT
TZOFFSETFROM:+0100
TZOFFSETTO:+0200
TZNAME:CEST
DTSTART:20260329T010000
END:DAYLIGHT
BEGIN:STANDARD
TZOFFSETFROM:+0200
TZOFFSETTO:+0100
TZNAME:CET
DTSTART:20261025T010000
END:STANDARD
BEGIN:DAYLIGHT
TZOFFSETFROM:+0100
TZOFFSETTO:+0200
TZNAME:CEST
DTSTART:20270328T010000
END:DAYLIGHT
BEGIN:STANDARD
TZOFFSETFROM:+0200
TZOFFSETTO:+0100
TZNAME:CET
DTSTART:20271031T010000
END:STANDARD
END:VTIMEZONE
BEGIN:VEVENT
DTSTART;TZID=Europe/Belgrade:20260501T050000
DTEND;TZID=Europe/Belgrade:20260503T210000
DTSTAMP:20260421T005418
CREATED:20260105T090012Z
LAST-MODIFIED:20260202T100430Z
UID:27968-1777611600-1777842000@pozelizelju.org.rs
SUMMARY:Vozovanje\, prvomajski praznici u Užicu
DESCRIPTION:Naziv aktivnosti\n\n\nVozovanje – Prvomajski praznici u Užicu\n\n\n\n\nDatum održavanja\n\n\nPetak 1. maj – nedelja 3. maj 2026. godine\n\n\n\n\nOrganizator aktivnosti\n\n\nZoran Vukmanov tel. 069-331-2228\n\n\n\n\nVreme i mesto polaska\n\n\nŽeljeznička stanica u Subotici\, 05.00 h.\nDoći bar 10 minuta ranije na stanicu.\n\n\n\n\nPrevozno sredstvo\n\n\nVoz\, redovna linija Subotica – Beograd Centar (Prokop).\nRed vožnje:\n05.00 Subotica – 06.35 Novi Beograd\n07.00 Novi Beograd – 10.43 Užice\n\n\n\n\nOpis aktivnosti\n\n\nPo dolasku u Užice odlazak do smeštaja\, udaljen oko 5 minuta hoda od žel. stanice Užice. Smeštaj\, raspakivanje stvari\, kratak odmor.\nPopodne pešačenje kanjonom Đetinje\, poseta utvrđenju Stari grad.\nNoćenje.\n2. maj – 9.46 h polazak voza iz Užica za Zlakusu. Dolazak u Zlakusu u 10.00 h.\nPešačka tura Zlakusa – Potpećka pećina – vrh Gradina – Zlakusa. Oko 15 km pešačenja.\nPovratak iz Zlakuse u 18.45 h za Užice\, dolazak u Užice u 19.01 h.\nNoćenje.\n3. maj – pešačka tura do vidikovca Zabučje. Kružna staza oko 9 km.\nPakovanje i odlazak na žel. stanicu Užice.\n \n\n\n\n\nOčekivani povratak u Suboticu\n\n\nPolazak voza iz Užica 15.03 h\, dolazak u Beograd Prokop u 18.53 h.\nUkoliko voz ne kasni presedanje na voz za Suboticu u 19.00 h\, dolazak u Suboticu u 20.40 h.\nUkoliko ne stignemo na taj voz sledeći polazak je u 20.00 h sa stanice Beograd Prokop\, dolazak u Suboticu u 21.19 h.\n\n\n\n\nNeophodna oprema\n\n\nUdobna obuća za pešačenje\, odeća prilagođena vremenskim uslovima i boravku u prirodi za tri dana.\n\n\n\n\nHrana i piće\n\n\nIz ranca. Mogućnost kupovine u Užicu\, pekare\, restorani\, prodavnice…\n\n\n\n\nSmeštaj\n\n\nPrivatni smeštaj udaljen oko 150-200 metara od žel. stanice u Užicu\, 3 x 4-krevetne sobe (singl ležajevi)\, kapacitet  12 mesta\, u slučaju većeg interesovanja tražićemo dodatni smeštaj (lokacija i cena približna ovom smeštaju koliko god je to moguće)\n\n\n\n\nTroškovi\n\n\nSvako snosi svoje troškove za prevoz\, okvirno oko 3500 rsd ili oko 2500 rsd u slučaju korišćenja popusta.\nSmeštaj 3000 rsd za dve noći\, 3 sobe sa po 4 singl kreveta. \n\n\n\n\nPrijave\n\n\nPrijave su potrebne zbog rezevacije smeštaja. Broj mesta je ograničen na 12 (tri sobe sa po 4 ležaja).\nPrijave su validne uz uplatu avansa od po 1500 rsd (do 20. februara)\, ostatak od 1500 rsd se plaća do 20.03.2026. godine.\nPrijave se zatvorene\, popunili smo rezervisani smeštaj.\nU slučaju otkazivanja nakon izvršene uplate neophodno je pronaći zamenu\, u protivnom novac uplaćen za rezervaciju ne može biti vraćen niti prenet na neko drugo putovanje.\n\n\n\n\nPravo učešća\n\n\nAktivnost je namenjena prvenstveno članovima udruženja.\nUkoliko još niste član to možete postati popunjavanjem pristupnice i uplatom godišnje članarine.\n\n\n\n\nNapomene:\n\n\nSvaki učesnik akcije učestvuje na sopstvenu odgovornost!\n\n\n\n\nDodatne napomene:\n\n\nUsled nepredviđenih okolnosti organizator putovanja ima pravo da promeni plan i program aktivnosti.\n \nSve aktivnosti u prirodi se oganizuju u skladu sa statutom udruženja „Poželi želju“.\n \n\n\n\n\n\n\n\n\n\n\n\n\n Trenutno smo popunili broj mesta u smeštajima. 
URL:https://pozelizelju.org.rs/event/vozovanje-prvomajski-praznici-u-uzicu/
LOCATION:Užice
CATEGORIES:Naredne aktivnosti,putovanja vozom,Višednevna putovanja
ATTACH;FMTTYPE=image/jpeg:https://pozelizelju.org.rs/wp-content/uploads/2025/11/file_0000000003cc720ab2622f5a0a41b279.jpg
ORGANIZER;CN="Udru%C5%BEenje Po%C5%BEeli %C5%BEelju":MAILTO:office@pozelizelju.org.rs
END:VEVENT
BEGIN:VEVENT
DTSTART;TZID=Europe/Belgrade:20260510T080000
DTEND;TZID=Europe/Belgrade:20260510T173000
DTSTAMP:20260421T005418
CREATED:20260420T172451Z
LAST-MODIFIED:20260420T172452Z
UID:29052-1778400000-1778434200@pozelizelju.org.rs
SUMMARY:Ravničarenje
DESCRIPTION:naziv aktivnosti\n\n\nRavničarenje (od .Vrbasa do Kucure)\n\n\n\n\norganizator\n\n\nErvin Kajić\, tel. 064-352-0477\n\n\n\n\ndatum\n\n\n10. maj 2026. godine – nedelja\n\n\n\n\nprevozno sredstvo\n\n\nvoz\, redovna linija Subotica – Vrbas \n\n\n\n\nvreme i mesto polaska\n\n\n08.00 h polazak voza iz Subotice\, železnička stanica\n\n\n\n\ntrasa putovanja\n\n\nSubotica – Vrbas\n\n\n\n\nopis aktivnosti\n\n\nPo dolasku voza u Vrbas u 08.25 h krećemo na pešačenje.\nTrasa Vrbas Nova\, železnička stanica\, dalje pešačenje prema Kucuri atarskim putevima\, idemo do prevodnice i vraćamo se uz kanal DTD do železničke stanice Vrbas.\nDužini oko 20 km\, vremenskog trajanja oko 8 h.\n\n\n\n\nvreme povratka u Suboticu\n\n\nVoz iz Vrbasa u 16.54 h\, dolazak u Suboticu u 17.19 h po redu vožnje.\n\n\n\n\nneophodna oprema\n\n\nOdeća i obuća za jednodnevni boravak u prirodi.\nHrana i piće u sopstvenoj režiji. \n\n\n\n\ntroškovi akcije\n\n\ntroškovi za prevoz\, vozna karta Subotica – Vrbas – Subotica oko 950 dinara (povratna karta)\n\n\n\n\nprijave\n\n\nPrijave nisu neophodne\, dovoljno je doći na vreme na stanicu\, kupiti kartu\, nabaciti osmeh i krenuti u novu avanturu.\n\n\n\n\nuplate i akontacija\n\n\nsvako snosi svoje troškove za sebe\n\n\n\n\nPravo učešća\n\n\nAkcija je namenjena za članove udruženja.\n\n\n\n\nNapomene:\n\n\nSvaki učesnik akcije učestvuje na sopstvenu odgovornost!\nUsled nepredviđenih okolnosti vodič akcije ima pravo da promeni plan i program akcije.\nSve aktivnosti u prirodi se oganizuju u skladu sa statutom udruženja „Poželi želju“.\n\n\n\n\nPlanirana trasa TREK ZA GPS
URL:https://pozelizelju.org.rs/event/ravnicarenje-vrbas/
LOCATION:Vrbas\, Serbia
CATEGORIES:Naredne aktivnosti,putovanja vozom,Ravničarenje
ATTACH;FMTTYPE=image/jpeg:https://pozelizelju.org.rs/wp-content/uploads/2024/12/logo-ravnica-sajt.jpg
ORGANIZER;CN="Udru%C5%BEenje Po%C5%BEeli %C5%BEelju":MAILTO:office@pozelizelju.org.rs
END:VEVENT
END:VCALENDAR