BEGIN:VCALENDAR
VERSION:2.0
PRODID:-//Poželi želju, Subotica - ECPv6.15.20//NONSGML v1.0//EN
CALSCALE:GREGORIAN
METHOD:PUBLISH
X-ORIGINAL-URL:https://pozelizelju.org.rs
X-WR-CALDESC:Events for Poželi želju, Subotica
REFRESH-INTERVAL;VALUE=DURATION:PT1H
X-Robots-Tag:noindex
X-PUBLISHED-TTL:PT1H
BEGIN:VTIMEZONE
TZID:Europe/Belgrade
BEGIN:DAYLIGHT
TZOFFSETFROM:+0100
TZOFFSETTO:+0200
TZNAME:CEST
DTSTART:20240331T010000
END:DAYLIGHT
BEGIN:STANDARD
TZOFFSETFROM:+0200
TZOFFSETTO:+0100
TZNAME:CET
DTSTART:20241027T010000
END:STANDARD
BEGIN:DAYLIGHT
TZOFFSETFROM:+0100
TZOFFSETTO:+0200
TZNAME:CEST
DTSTART:20250330T010000
END:DAYLIGHT
BEGIN:STANDARD
TZOFFSETFROM:+0200
TZOFFSETTO:+0100
TZNAME:CET
DTSTART:20251026T010000
END:STANDARD
BEGIN:DAYLIGHT
TZOFFSETFROM:+0100
TZOFFSETTO:+0200
TZNAME:CEST
DTSTART:20260329T010000
END:DAYLIGHT
BEGIN:STANDARD
TZOFFSETFROM:+0200
TZOFFSETTO:+0100
TZNAME:CET
DTSTART:20261025T010000
END:STANDARD
BEGIN:DAYLIGHT
TZOFFSETFROM:+0100
TZOFFSETTO:+0200
TZNAME:CEST
DTSTART:20270328T010000
END:DAYLIGHT
BEGIN:STANDARD
TZOFFSETFROM:+0200
TZOFFSETTO:+0100
TZNAME:CET
DTSTART:20271031T010000
END:STANDARD
END:VTIMEZONE
BEGIN:VEVENT
DTSTART;TZID=Europe/Belgrade:20260221T070000
DTEND;TZID=Europe/Belgrade:20260221T233000
DTSTAMP:20260421T011548
CREATED:20260203T190003Z
LAST-MODIFIED:20260218T144352Z
UID:27962-1771657200-1771716600@pozelizelju.org.rs
SUMMARY:Vozovanje\, Budimpešta
DESCRIPTION:Naziv aktivnosti\n\n\nVozovanje\nBudimpešta\, tri ostrva\n\n\n\n\nDatum održavanja\n\n\nSubota 21. februar 2026. godine\n\n\n\n\nOrganizator aktivnosti\n\n\nZoran Vukmanov tel. 069-331-2228\n\n\n\n\nVreme i mesto polaska\n\n\nŽeljeznička stanica u Subotici\, 07.37 h\, polazak voza za Segedin.\nDoći bar 20 minuta ranije na stanicu.\n\n\n\n\nPrevozno sredstvo\n\n\nVoz\, redovna linija Subotica – Segedin.\nRed vožnje:\n07.37 Subotica – 08.57 Segedin\n09.44 Segedin – 12.09 Budapest Nyugati\n\n\n\n\nOpis aktivnosti\n\n\nPo dolasku nastavljamo do mosta kod ostrva Margit sziget.\nZapočinjemo pešačenje trasom “Szigetelo 15”\, staza koja je trasirana preko tri gradska ostrva\, tri prirodne oaze u velegradu. Margit sziget\, Nepsziget i Obudai sziget.\nDužina staze oko 13 km\, ukupan uspon 150 metara. Staza se može preći za oko 4 do 5 h laganog hoda.\nSa Obudai szigete moguće je gradskim prevozom doći do mosta kod Margit szigeta odakle ima 15-20 minuta peške do žel. stanice Nyugati.\nU blizini je tržni centar Mammut (prodavnice\, restorani\, toalet…)\nSlobodno vreme do polaska voza u 18.50 h.\n\n\n\n\nOčekivani povratak u Suboticu\n\n\nRed vožnje:\n18.50 Budapest Nyugati – 21.20 Szeged\n21.58 Szeged – 23.18 Subotica\n\n\n\n\nNeophodna oprema\n\n\nUdobna obuća za pešačenje\, odeća prilagođena vremenskim uslovima.\nVažeći pasoš ili EU LK za prelazak granice.\n\n\n\n\nHrana i piće\n\n\nIz ranca. Mogućnost kupovine u gradu za vreme pešačenja kao i nakon završetka aktivnosti.\n\n\n\n\nTroškovi\n\n\nSvako snosi svoje troškove.\nOkvirni troškovi:\nSubotica-Segedin-Subotica 1200 rsd.\nSzeged – Budapest – Szeged oko 7000 HUF\, postoji mogućnost kupovine dnevne karte Magyarorszag24\, cena 4999 HUF\, karta se može kupiti na blagajni ili preko aplikacije MAV+ (preuzimanje sa Google stora za android telefone).\nLica starija od 65 godina ne plaćaju prevoz na teritoriji Mađarske!\nKurs: 1000 HUF okvirno 310 rsd\n\n\n\n\nPrijave\n\n\nPrijave nisu neophodne\, dovoljno je doći u navedeno vreme na startno mesto.\n\n\n\n\nPravo učešća\n\n\nAktivnost je namenjena prvenstveno članovima udruženja.\nUkoliko još niste član to možete postati popunjavanjem pristupnice i uplatom godišnje članarine.\n\n\n\n\nNapomene:\n\n\nSvaki učesnik akcije učestvuje na sopstvenu odgovornost!\n\n\n\n\nDodatne napomene:\n\n\nUsled nepredviđenih okolnosti organizator putovanja ima pravo da promeni plan i program aktivnosti.\n\nSve aktivnosti u prirodi se oganizuju u skladu sa statutom udruženja „Poželi želju“.\n \n\n\n\n\nPlanirana trasa
URL:https://pozelizelju.org.rs/event/vozovanje-budapest/
LOCATION:Budapest\, Budimpešta\, Mađarska
CATEGORIES:Jednodnevni izleti,Naredne aktivnosti,putovanja vozom
ATTACH;FMTTYPE=image/jpeg:https://pozelizelju.org.rs/wp-content/uploads/2025/11/file_0000000003cc720ab2622f5a0a41b279.jpg
ORGANIZER;CN="Udru%C5%BEenje Po%C5%BEeli %C5%BEelju":MAILTO:office@pozelizelju.org.rs
END:VEVENT
BEGIN:VEVENT
DTSTART;TZID=Europe/Belgrade:20251220T073000
DTEND;TZID=Europe/Belgrade:20251220T233000
DTSTAMP:20260421T011548
CREATED:20251129T111902Z
LAST-MODIFIED:20251211T051243Z
UID:27790-1766215800-1766273400@pozelizelju.org.rs
SUMMARY:Advent u Kečkemetu (HU) - vozom
DESCRIPTION:Naziv aktivnosti\n\n\nAdvent u Kečkemetu (HU)\n\n\n\n\nDatum održavanja\n\n\nSubota 20. decembar 2025. godine\n\n\n\n\nOrganizator aktivnosti\n\n\nZoran Vukmanov tel. 069-331-2228\n\n\n\n\nVreme i mesto polaska\n\n\nŽeljeznička stanica u Subotici\, 7.37 h.\nDoći bar 15 minuta ranije na stanicu.\n\n\n\n\nPrevozno sredstvo\n\n\nVoz\, redovna linija Subotica – Segedin i Segedin – Kečkemet.\nRed vožnje:\n07.37 Subotica – 08.57 Segedin\n09.44 Segedin – 10.47 Kečkemet\n\n\n\n\nOpis aktivnosti\n\n\nPešačenje u mestu Kečkemet\, obilazak gradskih znamenitosti kao i sportsko-rekreativnog dela grada. Okvirno 15 km pešačenja.\nNakon pešačenja zadržaćemo se u gradu u obilasku božićnog vašara do polaska voza za Segedin.\n\n\n\n\nOčekivani povratak u Suboticu\n\n\nVozom iz Kečkemeta u 20.11 h za Segedin\, dolazak u Segedin u 21.16 h. Iz Segedina u 21.58 h za Suboticu\, dolazak u 23.18 h.\n\n\n\n\nNeophodna oprema\n\n\nUdobna obuća za pešačenje\, odeća prilagođena vremenskim uslovima.\nPešačenje je po uređenim stazama i urbanim delovima grada tako da nije potrebna posebna oprema.\n\n\n\n\nHrana i piće\n\n\nIz ranca\, mogućnost kupovina u gradu i na vašaru.\n\n\n\n\nTroškovi\n\n\nSvako snosi svoje troškove. Vozna karta Subotica – Segedin – Subotica oko 1200 dinara\, vozna karta Segedin – Kečkemet – Segedin oko 1000 dinara (oko 3300 HUF).\nVozne karte se kupuju na blagajnama u Subotici i u Segedinu.\nUkoliko postoji mogućnost kupovine povratne karte Subotica – Kečkemet – Subotica na blagajni u Subotici preporučujem kupovinu iste (pre sajta mađarske železnice moguće je kupiti kartu po ceni od 18 evra\, povratna karta)\n\n\n\n\nPrijave\n\n\nPrijave nisu neophodne\, dovoljno je doći u navedeno vreme na startno mesto.\n\n\n\n\nPravo učešća\n\n\nAktivnost je namenjena prvenstveno članovima udruženja ali nećemo odbiti nikoga\, slobodno nam se priključite ali poštujte pravila koja važe u našem udruženju. Ujedno možete postati član udruženja popunjavanjem pristupnice i uplatom godišnje članarine.\n\n\n\n\nNapomene:\n\n\nSvaki učesnik akcije učestvuje na sopstvenu odgovornost!\n\n\n\n\nDodatne napomene:\n\n\nUsled nepredviđenih okolnosti organizator putovanja ima pravo da promeni plan i program aktivnosti.\nU slučaju ekstremno lošeg vremena aktivnost će biti otkazana.\nSve aktivnosti u prirodi se oganizuju u skladu sa statutom udruženja „Poželi želju“.\n \n\n\n\n\n\n\n\n\nPlanirani trek za GPS
URL:https://pozelizelju.org.rs/event/advent-u-keckemetu-hu-vozom/
LOCATION:Privatno: Kecskemet\, Hungary
CATEGORIES:Naredne aktivnosti,putovanja vozom
ATTACH;FMTTYPE=image/jpeg:https://pozelizelju.org.rs/wp-content/uploads/2025/11/file_0000000003cc720ab2622f5a0a41b279.jpg
ORGANIZER;CN="Udru%C5%BEenje Po%C5%BEeli %C5%BEelju":MAILTO:office@pozelizelju.org.rs
END:VEVENT
END:VCALENDAR