BEGIN:VCALENDAR
VERSION:2.0
PRODID:-//Poželi želju, Subotica - ECPv6.15.20//NONSGML v1.0//EN
CALSCALE:GREGORIAN
METHOD:PUBLISH
X-ORIGINAL-URL:https://pozelizelju.org.rs
X-WR-CALDESC:Events for Poželi želju, Subotica
REFRESH-INTERVAL;VALUE=DURATION:PT1H
X-Robots-Tag:noindex
X-PUBLISHED-TTL:PT1H
BEGIN:VTIMEZONE
TZID:Europe/Belgrade
BEGIN:DAYLIGHT
TZOFFSETFROM:+0100
TZOFFSETTO:+0200
TZNAME:CEST
DTSTART:20250330T010000
END:DAYLIGHT
BEGIN:STANDARD
TZOFFSETFROM:+0200
TZOFFSETTO:+0100
TZNAME:CET
DTSTART:20251026T010000
END:STANDARD
BEGIN:DAYLIGHT
TZOFFSETFROM:+0100
TZOFFSETTO:+0200
TZNAME:CEST
DTSTART:20260329T010000
END:DAYLIGHT
BEGIN:STANDARD
TZOFFSETFROM:+0200
TZOFFSETTO:+0100
TZNAME:CET
DTSTART:20261025T010000
END:STANDARD
BEGIN:DAYLIGHT
TZOFFSETFROM:+0100
TZOFFSETTO:+0200
TZNAME:CEST
DTSTART:20270328T010000
END:DAYLIGHT
BEGIN:STANDARD
TZOFFSETFROM:+0200
TZOFFSETTO:+0100
TZNAME:CET
DTSTART:20271031T010000
END:STANDARD
END:VTIMEZONE
BEGIN:VEVENT
DTSTART;TZID=Europe/Belgrade:20260315T145000
DTEND;TZID=Europe/Belgrade:20260315T180000
DTSTAMP:20260420T221025
CREATED:20251129T135605Z
LAST-MODIFIED:20260313T064746Z
UID:27801-1773586200-1773597600@pozelizelju.org.rs
SUMMARY:Pešačenje okolinom grada
DESCRIPTION:naziv aktivnosti\n\n\nPešačenje okolinom grada\nStaza zdravlja Majdan\n\n\n\n\nvodič\n\n\nErvin Kajić\, tel. 064-352-0477\n\n\n\n\ndatum\n\n\n15. mart 2026. godine – nedelja\n\n\n\n\nvreme i mesto polaska na stazu\n\n\nautobuska okretnica „dvojke“ Srpski šor.\nStart pešačenja u 14.50 h (po dolasku autobusa)\n\n\n\n\nnačin dolaska na polazno mesto\n\n\nGradski autobus gradskog prevoznika Tans jug\, autobus linija 2\, polazak sa Novog naselja u 14.20 h\nili\nsopstveni prevoz\n\n\n\n\nopis aktivnosti\n\n\nPešačenje obnovljenom stazom zdravlja Majdan u dužini od oko 8 km.\nVremensko trajanje pešačenja oko 3 sata.\n\n\n\n\nvreme povratka u Suboticu\n\n\nautobus prema gradu polazi u 18 h\n\n\n\n\nneophodna oprema\n\n\nOdeća i obuća prilagođena vremenskim uslovima i godišnjem dobu.\nDobro raspoloženje se podrazumeva.\n\n\n\n\ntroškovi\n\n\nAko dolazite gradskim prevozom jedini trošak je samo za autobusku kartu.\n\n\n\n\nPrijave\n\n\nPrijave nisu neophodne. Dovoljno je samo doći u navedeno vreme na mesto okupljanja i polaska na stazu.\n\n\n\n\nPravo učešća\n\n\nAkcija je otvorenog tipa\, na akciji možete učestovovati ako vam odgovara navedeni plan i program.\n\n\n\n\nNapomene:\n\n\nSvaki učesnik akcije učestvuje na sopstvenu odgovornost!\nUsled nepredviđenih okolnosti vodič akcije ima pravo da promeni plan i program akcije.
URL:https://pozelizelju.org.rs/event/okolinom-grada/
LOCATION:Subotička peščara
CATEGORIES:Naredne aktivnosti,Pešačenje okolinom grada
ATTACH;FMTTYPE=image/jpeg:https://pozelizelju.org.rs/wp-content/uploads/2024/12/logo-city-sajt.jpg
ORGANIZER;CN="Udru%C5%BEenje Po%C5%BEeli %C5%BEelju":MAILTO:office@pozelizelju.org.rs
END:VEVENT
BEGIN:VEVENT
DTSTART;TZID=Europe/Belgrade:20260125T080000
DTEND;TZID=Europe/Belgrade:20260125T170000
DTSTAMP:20260420T221025
CREATED:20250102T043827Z
LAST-MODIFIED:20260104T134033Z
UID:26077-1769328000-1769360400@pozelizelju.org.rs
SUMMARY:Pešačenje okolinom grada
DESCRIPTION:naziv aktivnosti\n\n\nPešačenje okolinom grada\nZima u peščari\n\n\n\n\norganizator\n\n\nUrban Čaba\, tel. 064-448-1519\n\n\n\n\ndatum\n\n\n25. januar 2026. godine\, nedelja\n\n\n\n\nvreme i mesto okupljanja\n\n\n08.00 h autobuska okretnica Kelebija državna granica (kružni tok pre graničnog prelaza Kelebija).\n\n\n\n\ndolazak na polazno mesto pešačenja\n\n\nPrigradska linija br. 22\, polazak u 7.30 h sa glavne autobuske stanice (bus staje kod Patrije\, Lifke…)\n\n\n\n\nopis aktivnosti\n\n\nPešačenje markiranom pešačkom stazom od Kelebije do Palića.\nUkupna dužina staze  je 32 km i prelazi se za 8-9 sati hoda.\nPostoji mogućnost skraćivanja staze odnosno isključenja na autobuskim okretnicama na Srpskom šoru (9 km od starta) na okretnici Makova sedmica (14 km od starta) u centru Makove sedmice (18 km od starta) i na okretnici Radanovac (22 km od starta)…..već prema želji i potrebama.\n\n\n\n\nvreme povratka u Suboticu\n\n\nautobusi sa Palića prema gradu saobraćaju na svakih 30 minuta.\n\n\n\n\nneophodna oprema\n\n\nOdeća i obuća prilagođena vremenskim uslovima i godišnjem dobu.\nHrana iz ranca!\nPoneti dovoljno tečnosti!\nKo planira preći celu stazu može slobodno poneti i čeonu baterijsku lampu.\n\n\n\n\ntroškovi akcije\n\n\nsamo za autobuske karte\n\n\n\n\nPrijave\n\n\nPrijave nisu neophodne.\nDovoljno je samo doći u navedeno vreme na mesto okupljanja i polaska na stazu.\n\n\n\n\nPravo učešća\n\n\nAkcija je namenjena svima kojima navedeni plan i program odgovaraju.\nSvaki učesnik akcije učestvuje na sopstvenu odgovornost!\n\n\n\n\nNapomene:\n\n\nUsled nepredviđenih okolnosti vodič akcije ima pravo da promeni plan i program akcije.\nSve aktivnosti u prirodi se oganizuju u skladu ciljevima i statutom udruženja „Poželi želju“ kao i na osnovu godišnjeg plana aktivnosti za tekuću godinu.
URL:https://pozelizelju.org.rs/event/okolinom-grada-caba/
LOCATION:Subotička peščara
CATEGORIES:Naredne aktivnosti,Pešačenje okolinom grada
ATTACH;FMTTYPE=image/jpeg:https://pozelizelju.org.rs/wp-content/uploads/2024/12/logo-city-sajt.jpg
ORGANIZER;CN="Udru%C5%BEenje Po%C5%BEeli %C5%BEelju":MAILTO:office@pozelizelju.org.rs
END:VEVENT
BEGIN:VEVENT
DTSTART;TZID=Europe/Belgrade:20260102T090000
DTEND;TZID=Europe/Belgrade:20260102T130000
DTSTAMP:20260420T221025
CREATED:20230124T113508Z
LAST-MODIFIED:20251230T110726Z
UID:21803-1767344400-1767358800@pozelizelju.org.rs
SUMMARY:Novogodišnje pešačenje
DESCRIPTION:naziv aktivnosti\n\n\nNovogodišnje pešačenje\n\n\n\n\nvodič\n\n\nZoran Vukmanov\, tel. 069-331-2228\nErvin Kajić\, tel. 064-352-0477\nTurzai Jožef\, tel. 064-126-3563\nHorvat Jožef\, tel. 063-549-276\nProsinger Ištvan\, tel. 062-234-787\nBabić Branko\, tel. 063-874-2828\nUrban Čaba\, tel. 064-448-1519\nPetar Kozma\, tel. 064-252-1350\n\n\n\n\ndatum\n\n\n2. januara 2026. godine (petak)\n\n\n\n\nvreme i mesto polaska na stazu\n\n\nNa staze polazimo sa tri lokacije:\nLokacija 1. – autobuska okretnica “trojke” Makova sedmica. \nStart pešačenja u 09.00 h.\nLokacija 2. – autobuska okretnica “dvojke” Srpski šor. \nStart pešačenja u 09.15 h\nLokacija 3. – autobuska okretnica “jedinice” Kelebija opština. \nStart pešačenja u 09.30 h.\n\n\n\n\nnačin dolaska na polazno mesto\n\n\nGradski autobus gradskog prevoznika Tans jug\nLokacija 1. – autobus linija 3\, polazak sa Bajskog puta u 08.30 h\nLokacija 2. – autobus linija 2\, polazak sa Novog naselja u 08.40 h\nLokacija 3. – autobus linija 1\, polazak sa Pačirskog puta u 08.55 h\nili\nsopstveni prevoz\n\n\n\n\nopis aktivnosti\n\n\nTradicionalno novogodišnje pešačenje 2. januara ove godine organizujemo na malo drugačiji način. Okupljanja su na tri lokacije\, sa svake lokacije vodiči udruženja će povesti učesnike ka izletištu Majdan (nekadašnjem jezeru u Kelebijskoj šumi) gde ćemo se svi zajedno okupiti i poželeti jedni drugima srećnu novu godinu. Ujedno ćemo održati kratku godišnju skupštinu i izabrati novo rukovodstvo udruženja.\nDužina staza:\nLokacija 1. – Makova sedmica – Majdan oko 7 km\nLokacija 2. – Srpski šor – Majdan oko 6 km\nLokacija 3. – Kelebija opština – Majdan oko 5 km.\nOčekivani dolazak na Majdan je do 10.30 h. Pauza do 11 h kada se kreće nazad ka autobuskim okretnicama.\nPrednost dolaska na ovo pešačenje autobusom je u tome da možete pešačiti sa jedne lokacija a završiti na drugoj npr. doći na Makovu sedmicu\, pešačiti do Majdana i onda sa drugom grupom krenuti ka Kelebiji opštini i tamo sačekati autobus prema gradu.\n\n\n\n\nvreme povratka u Suboticu\n\n\nautobusi na svim pomenutim gradskim linijama prema gradu polaze na svakih 30-40 minuta tako da neće biti problema oko povratka kućama. \n\n\n\n\nneophodna oprema\n\n\nOdeća i obuća prilagođena vremenskim uslovima i godišnjem dobu.\nDobro raspoloženje se podrazumeva.\n\n\n\n\ntroškovi\n\n\nAko dolazite gradskim prevozom jedini trošak je samo za autobusku kartu.\n\n\n\n\nPrijave\n\n\nPrijave nisu neophodne. Dovoljno je samo doći u navedeno vreme na mesto okupljanja i polaska na stazu.\n\n\n\n\nPravo učešća\n\n\nAkcija je otvorenog tipa\, na akciji možete učestovovati ako vam odgovara navedeni plan i program.\n\n\n\n\nNapomene:\n\n\nSvaki učesnik akcije učestvuje na sopstvenu odgovornost!\nUsled nepredviđenih okolnosti vodič akcije ima pravo da promeni plan i program akcije.
URL:https://pozelizelju.org.rs/event/novogodisnje-pesacenje/
LOCATION:Subotička peščara
CATEGORIES:Naredne aktivnosti,Pešačenje okolinom grada
ATTACH;FMTTYPE=image/jpeg:https://pozelizelju.org.rs/wp-content/uploads/2024/12/logo-city-sajt.jpg
ORGANIZER;CN="Udru%C5%BEenje Po%C5%BEeli %C5%BEelju":MAILTO:office@pozelizelju.org.rs
END:VEVENT
END:VCALENDAR